BEGIN:VCALENDAR
VERSION:2.0
PRODID:-//STV Wikon
 //NONSGML Events //DE
CALSCALE:GREGORIAN
X-WR-CALNAME:STV Wikon
BEGIN:VEVENT
CREATED:20260118T132712Z
UID:836
DTEND;VALUE=DATE:20261218
DTSTART;VALUE=DATE:20261217
DTSTAMP:20260420T053529Z
LOCATION:Kafistöbli
DESCRIPTION:
SUMMARY:Weihnachtshöck
ORGANIZER:STV Wikon
URL;VALUE=URI:https://stvwikon.ch/agenda/weihnachtshoeck-8/
END:VEVENT
BEGIN:VEVENT
CREATED:20260118T132643Z
UID:835
DTEND;VALUE=DATE:20261114
DTSTART;VALUE=DATE:20261113
DTSTAMP:20260420T053529Z
LOCATION:Kafistöbli
DESCRIPTION:
SUMMARY:GV
ORGANIZER:STV Wikon
URL;VALUE=URI:https://stvwikon.ch/agenda/gv-8/
END:VEVENT
BEGIN:VEVENT
CREATED:20260118T132619Z
UID:834
DTEND;VALUE=DATE:20261108
DTSTART;VALUE=DATE:20261107
DTSTAMP:20260420T053529Z
LOCATION:MZH Wikon
DESCRIPTION:
SUMMARY:Racletteabend
ORGANIZER:STV Wikon
URL;VALUE=URI:https://stvwikon.ch/agenda/racletteabend-7/
END:VEVENT
BEGIN:VEVENT
CREATED:20260118T132546Z
UID:833
DTEND;VALUE=DATE:20261004
DTSTART;VALUE=DATE:20261003
DTSTAMP:20260420T053529Z
LOCATION:Unbekannt
DESCRIPTION:
SUMMARY:Sporttag
ORGANIZER:STV Wikon
URL;VALUE=URI:https://stvwikon.ch/agenda/sporttag/
END:VEVENT
BEGIN:VEVENT
CREATED:20260118T132524Z
UID:832
DTEND;VALUE=DATE:20260920
DTSTART;VALUE=DATE:20260919
DTSTAMP:20260420T053529Z
LOCATION:Sursee
DESCRIPTION:
SUMMARY:Polyathlon
ORGANIZER:STV Wikon
URL;VALUE=URI:https://stvwikon.ch/agenda/polyathlon-3/
END:VEVENT
BEGIN:VEVENT
CREATED:20260118T132445Z
UID:831
DTEND;VALUE=DATE:20260914
DTSTART;VALUE=DATE:20260912
DTSTAMP:20260420T053529Z
LOCATION:Unbekannt
DESCRIPTION:
SUMMARY:Turnerreise
ORGANIZER:STV Wikon
URL;VALUE=URI:https://stvwikon.ch/agenda/turnerreise-8/
END:VEVENT
BEGIN:VEVENT
CREATED:20260118T132359Z
UID:830
DTEND;VALUE=DATE:20260816
DTSTART;VALUE=DATE:20260815
DTSTAMP:20260420T053529Z
LOCATION:Schulhaus Wikon
DESCRIPTION:
SUMMARY:Schnellster Wikoner
ORGANIZER:STV Wikon
URL;VALUE=URI:https://stvwikon.ch/agenda/schnellster-wikoner-7/
END:VEVENT
BEGIN:VEVENT
CREATED:20260118T132319Z
UID:829
DTEND;VALUE=DATE:20260627
DTSTART;VALUE=DATE:20260626
DTSTAMP:20260420T053529Z
LOCATION:Schulhaus Wikon
DESCRIPTION:
SUMMARY:Vereins- &#038\; Jugibräteln
ORGANIZER:STV Wikon
URL;VALUE=URI:https://stvwikon.ch/agenda/vereins-jugibraeteln-5/
END:VEVENT
BEGIN:VEVENT
CREATED:20260118T132249Z
UID:828
DTEND;VALUE=DATE:20260622
DTSTART;VALUE=DATE:20260620
DTSTAMP:20260420T053529Z
LOCATION:Brittnau
DESCRIPTION:
SUMMARY:Ironbike
ORGANIZER:STV Wikon
URL;VALUE=URI:https://stvwikon.ch/agenda/ironbike-4/
END:VEVENT
BEGIN:VEVENT
CREATED:20260118T132209Z
UID:827
DTEND;VALUE=DATE:20260606
DTSTART;VALUE=DATE:20260605
DTSTAMP:20260420T053529Z
LOCATION:MZH Wikon
DESCRIPTION:
SUMMARY:Lotto
ORGANIZER:STV Wikon
URL;VALUE=URI:https://stvwikon.ch/agenda/lotto-6/
END:VEVENT
BEGIN:VEVENT
CREATED:20260118T132129Z
UID:826
DTEND;VALUE=DATE:20260503
DTSTART;VALUE=DATE:20260502
DTSTAMP:20260420T053529Z
LOCATION:Schützenhaus Wikon
DESCRIPTION:
SUMMARY:Helferfest 100 Jahre STV Wikon
ORGANIZER:STV Wikon
URL;VALUE=URI:https://stvwikon.ch/agenda/helferfest-100-jahre-stv-wikon/
END:VEVENT
END:VCALENDAR
