BEGIN:VCALENDAR
VERSION:2.0
PRODID:-//STV Wikon
 //NONSGML Events //DE
CALSCALE:GREGORIAN
X-WR-CALNAME:STV Wikon
BEGIN:VEVENT
CREATED:20221102T152342Z
UID:695
DTEND;VALUE=DATE:20230122
DTSTART;VALUE=DATE:20230121
DTSTAMP:20260424T181723Z
LOCATION:Luzern
DESCRIPTION:<table width="640"> <tbody> <tr> <td width="83"> 15:00:00</td> <td wi
SUMMARY:WMS 3. Rückrunde Herren 1
ORGANIZER:STV Wikon
URL;VALUE=URI:https://stvwikon.ch/agenda/wms-3-rueckrunde-herren-1-2/
END:VEVENT
BEGIN:VEVENT
CREATED:20221102T152259Z
UID:694
DTEND;VALUE=DATE:20230116
DTSTART;VALUE=DATE:20230115
DTSTAMP:20260424T181723Z
LOCATION:Luzern
DESCRIPTION:<table width="640"> <tbody> <tr> <td width="83"> 10:00:00</td> <td wi
SUMMARY:WMS 2. Rückrunde Herren 1
ORGANIZER:STV Wikon
URL;VALUE=URI:https://stvwikon.ch/agenda/wms-2-rueckrunde-herren-1-2/
END:VEVENT
BEGIN:VEVENT
CREATED:20221102T152214Z
UID:693
DTEND;VALUE=DATE:20230108
DTSTART;VALUE=DATE:20230107
DTSTAMP:20260424T181723Z
LOCATION:Luzern
DESCRIPTION:<table style="height: 185px;" width="798"> <tbody> <tr> <td width="83"
SUMMARY:WMS 1. Rückrunde Herren 1
ORGANIZER:STV Wikon
URL;VALUE=URI:https://stvwikon.ch/agenda/wms-1-rueckrunde-herren-1-2/
END:VEVENT
BEGIN:VEVENT
CREATED:20221102T152120Z
UID:692
DTEND;VALUE=DATE:20221218
DTSTART;VALUE=DATE:20221217
DTSTAMP:20260424T181723Z
LOCATION:Luzern
DESCRIPTION:<table style="height: 199px;" width="795"> <tbody> <tr> <td width="83"
SUMMARY:WMS 3. Vorrunde Herren 1
ORGANIZER:STV Wikon
URL;VALUE=URI:https://stvwikon.ch/agenda/wms-3-vorrunde-herren-1-2/
END:VEVENT
BEGIN:VEVENT
CREATED:20221102T152031Z
UID:691
DTEND;VALUE=DATE:20221205
DTSTART;VALUE=DATE:20221204
DTSTAMP:20260424T181723Z
LOCATION:Luzern
DESCRIPTION:<table style="height: 198px;" width="871"> <tbody> <tr> <td width="83"
SUMMARY:WMS 2. Vorrunde Herren 1
ORGANIZER:STV Wikon
URL;VALUE=URI:https://stvwikon.ch/agenda/wms-2-vorrunde-herren-1-3/
END:VEVENT
BEGIN:VEVENT
CREATED:20221102T151918Z
UID:690
DTEND;VALUE=DATE:20221127
DTSTART;VALUE=DATE:20221126
DTSTAMP:20260424T181723Z
LOCATION:Luzern
DESCRIPTION:<table style="height: 200px;" width="871"> <tbody> <tr> <td width="83"
SUMMARY:WMS 1. Vorrunde Herren 1
ORGANIZER:STV Wikon
URL;VALUE=URI:https://stvwikon.ch/agenda/wms-1-vorrunde-herren-1-3/
END:VEVENT
END:VCALENDAR
