BEGIN:VCALENDAR
VERSION:2.0
PRODID:-//STV Wikon
 //NONSGML Events //DE
CALSCALE:GREGORIAN
X-WR-CALNAME:STV Wikon
BEGIN:VEVENT
CREATED:20210705T061900Z
UID:627
DTEND;VALUE=DATE:20210822
DTSTART;VALUE=DATE:20210821
DTSTAMP:20260422T091724Z
LOCATION:unbekannt
DESCRIPTION:
SUMMARY:Reservedatum Nationalliga B
ORGANIZER:STV Wikon
URL;VALUE=URI:https://stvwikon.ch/agenda/reservedatum-nationalliga-b-5/
END:VEVENT
END:VCALENDAR
