BEGIN:VCALENDAR
VERSION:2.0
PRODID:-//STV Wikon
 //NONSGML Events //DE
CALSCALE:GREGORIAN
X-WR-CALNAME:STV Wikon
BEGIN:VEVENT
CREATED:20210705T061925Z
UID:628
DTEND;VALUE=DATE:20210912
DTSTART;VALUE=DATE:20210911
DTSTAMP:20260422T104705Z
LOCATION:unbekannt
DESCRIPTION:
SUMMARY:Reservedatum Nationalliga B
ORGANIZER:STV Wikon
URL;VALUE=URI:https://stvwikon.ch/agenda/reservedatum-nationalliga-b-6/
END:VEVENT
BEGIN:VEVENT
CREATED:20210705T061900Z
UID:627
DTEND;VALUE=DATE:20210822
DTSTART;VALUE=DATE:20210821
DTSTAMP:20260422T104705Z
LOCATION:unbekannt
DESCRIPTION:
SUMMARY:Reservedatum Nationalliga B
ORGANIZER:STV Wikon
URL;VALUE=URI:https://stvwikon.ch/agenda/reservedatum-nationalliga-b-5/
END:VEVENT
BEGIN:VEVENT
CREATED:20210705T061818Z
UID:626
DTEND;VALUE=DATE:20210905
DTSTART;VALUE=DATE:20210904
DTSTAMP:20260422T104705Z
LOCATION:Neukirch-Egnach TG
DESCRIPTION:11:15 UhrÂ  Â  Â  LÃ¶hningen-Neuhausen SHÂ  Â  :Â  Â  Â  Â  Â  Â  Wiko
SUMMARY:3. Runde Nationalliga B
ORGANIZER:STV Wikon
URL;VALUE=URI:https://stvwikon.ch/agenda/3-runde-nationalliga-b-2/
END:VEVENT
BEGIN:VEVENT
CREATED:20210705T061743Z
UID:625
DTEND;VALUE=DATE:20210815
DTSTART;VALUE=DATE:20210814
DTSTAMP:20260422T104705Z
LOCATION:Madiswil BE
DESCRIPTION:12:00 UhrÂ Â Â Â  Wikon LUÂ Â Â Â Â Â Â Â Â Â Â Â Â Â Â Â Â  : Â Â Â Â
SUMMARY:2. Runde Nationalliga B
ORGANIZER:STV Wikon
URL;VALUE=URI:https://stvwikon.ch/agenda/2-runde-nationalliga-b-2/
END:VEVENT
BEGIN:VEVENT
CREATED:20210705T061400Z
UID:624
DTEND;VALUE=DATE:20210808
DTSTART;VALUE=DATE:20210807
DTSTAMP:20260422T104705Z
LOCATION:BÃ¼singen SH
DESCRIPTION:12:00 UhrÂ Â Â Â  Wikon LUÂ Â Â Â Â Â Â Â Â Â Â Â Â Â Â Â Â  : Â Â Â Â
SUMMARY:1. Runde Nationalliga B
ORGANIZER:STV Wikon
URL;VALUE=URI:https://stvwikon.ch/agenda/1-runde-nationalliga-b-2/
END:VEVENT
END:VCALENDAR
